BEGIN:VCALENDAR
VERSION:2.0
PRODID:-//Library Market//iCal Export//EN
BEGIN:VEVENT
SUMMARY:Chess Club
UID:421
DTSTAMP:20260423T224700Z
DTSTART:20260510T180000Z
DTEND:20260510T190000Z
LOCATION:9318 Apison Pike, Collegedale, TN 37363, United States
ROOM: Chess Club
DESCRIPTION:Join us for Chess Club at the library! Whether you’re a begi
 nner or a seasoned player, all skill levels are welcome. Please bring your
  own board if possible as the library has a limited amount. Ages 6 and up.
  
URL:https://katielamb.librarycalendar.com/event/chess-club-421
END:VEVENT
END:VCALENDAR
